BEGIN:VCALENDAR
VERSION:2.0
PRODID:-//Boulevard des Artistes - ECPv6.15.20//NONSGML v1.0//EN
CALSCALE:GREGORIAN
METHOD:PUBLISH
X-WR-CALNAME:Boulevard des Artistes
X-ORIGINAL-URL:https://lh.boulevarddesartistes.com
X-WR-CALDESC:Évènements pour Boulevard des Artistes
REFRESH-INTERVAL;VALUE=DURATION:PT1H
X-Robots-Tag:noindex
X-PUBLISHED-TTL:PT1H
BEGIN:VTIMEZONE
TZID:Europe/Paris
BEGIN:DAYLIGHT
TZOFFSETFROM:+0100
TZOFFSETTO:+0200
TZNAME:CEST
DTSTART:20210328T010000
END:DAYLIGHT
BEGIN:STANDARD
TZOFFSETFROM:+0200
TZOFFSETTO:+0100
TZNAME:CET
DTSTART:20211031T010000
END:STANDARD
BEGIN:DAYLIGHT
TZOFFSETFROM:+0100
TZOFFSETTO:+0200
TZNAME:CEST
DTSTART:20220327T010000
END:DAYLIGHT
BEGIN:STANDARD
TZOFFSETFROM:+0200
TZOFFSETTO:+0100
TZNAME:CET
DTSTART:20221030T010000
END:STANDARD
BEGIN:DAYLIGHT
TZOFFSETFROM:+0100
TZOFFSETTO:+0200
TZNAME:CEST
DTSTART:20230326T010000
END:DAYLIGHT
BEGIN:STANDARD
TZOFFSETFROM:+0200
TZOFFSETTO:+0100
TZNAME:CET
DTSTART:20231029T010000
END:STANDARD
END:VTIMEZONE
BEGIN:VEVENT
DTSTART;TZID=Europe/Paris:20220607T183000
DTEND;TZID=Europe/Paris:20220607T193000
DTSTAMP:20260423T125014
CREATED:20220531T094955Z
LAST-MODIFIED:20220531T125824Z
UID:37346-1654626600-1654630200@lh.boulevarddesartistes.com
SUMMARY:MARTHE
DESCRIPTION:Compositrice\, auteure\, et pianiste chanteuse\, Marthe interprète ses chansons sur scène au piano. \nLes mélodies du piano et de la guitare tout en finesse laissent planer une atmosphère envoutante. La voix douce et profonde de Marthe invite à un état de transe et à la recherche d’une sérénité. \nSon 1er album « Essentiel » est sorti le 23 mai 2022. \nL’album Essentiel est un album de chansons poétiques\, en français\, composées par Marthe\, sous forme acoustique piano-voix & contrebasse\, exprimant une quête d’espoir et du courage vécue pendant le confinement de mars 2020. \nL’album a été financé grâce à une centaine de contributeurs réunis sur la plate-forme Ulule en décembre 2020. Il a été enregistré et mastérisé par le Label VXL Records\, avec les musiciens David Turle (piano) et Yannick Trotoux (contrebasse) en août 2021. Deux concerts de sortie d’album ont été réalisés le samedi 26 mars et dimanche 27 mars au Conservatoire Arthur Honegger du Havre. \nARTICLES CONCERNANT MARTHE Gregory2025-03-10T21:03:40+01:00Tribute to DahoGregory2025-02-11T16:51:48+01:00MARTHE / La fleure qui s’ignore / Magic Boulevard 9Gregory2022-03-25T12:06:13+01:00Entretien avec MartheGregory2021-01-07T23:16:34+01:00Ma Première fois sur le Boulevard des Artistes – MartheEVENEMENTS CONCERNANT MARTHE
URL:https://lh.boulevarddesartistes.com/lehavre/marthe/
LOCATION:Médiathèque de Gonfreville l’Orcher\, Place Jean Jaurès\, Gonfreville l'Orcher\, 76700\, France
CATEGORIES:4e Musique,Artistes
ATTACH;FMTTYPE=image/jpeg:https://lh.boulevarddesartistes.com/wp-content/uploads/2022/05/Marthe.jpg
ORGANIZER;CN="Boulevard des artistes":MAILTO:boulevarddesartistes@gmail.com
END:VEVENT
BEGIN:VEVENT
DTSTART;TZID=Europe/Paris:20220612T100000
DTEND;TZID=Europe/Paris:20220612T190000
DTSTAMP:20260423T125014
CREATED:20220520T084421Z
LAST-MODIFIED:20220527T084607Z
UID:36694-1655028000-1655060400@lh.boulevarddesartistes.com
SUMMARY:Escale à Tahiti les 11 et 12  juin au Magic Mirrors
DESCRIPTION:FL’association IA ORA NA TAHITI-LE HAVRE organise pour la 1ère fois en Normandie le festival polynésien : « Escale à Tahiti ». Le temps d’un week-end\, venez découL’association IA ORA NA TAHITI-LE HAVRE organise pour la 1ère fois en Normandie le festival polynésien : « Escale à Tahiti ». Le temps d’un week-end\, venez découvrir la culture polynésienne et la richesse de Tahiti et ses îles. Au programme : concerts\, danses\, ateliers\, projections\, tatoueurs maohi\, marché polynésien\, restauration locale (Ma’a Tahiti)… Ne manquez pas ce grand rassemblement du Pacifique : artistes\, artisans\, associations et personnalités seront au rendez-vous.vrir la culture polynésienne et la richesse de Tahiti et ses îles. Au programme : concerts\, danses\, ateliers\, projections\, tatoueurs maohi\, marché polynésien\, restauration locale (Ma’a Tahiti)… Ne manquez pas ce grand rassemblement du Pacifique : artistes\, artisans\, associations et personnalités seront au rendez-vous. \nARTICLES CONCERNANT LE MAGIC MIRRORSGregory2025-02-11T16:42:53+01:00Interview Green Tea Pot face au miroir du Magic MirrorsGregory2025-02-11T16:43:43+01:00Interview Vincent face au miroir du Magic MirrorsGregory2025-02-11T16:44:41+01:00Interview Los Primos face au miroir du Magic MirrorsGregory2025-02-11T16:46:43+01:00Interview Filipe face au miroir du Magic MirrorsGregory2024-01-17T10:20:12+01:00Interview General face au miroir du Magic MirrorsGregory2024-01-17T10:15:08+01:00Interview Louisiane & Caux face au miroir du Magic MirrorsGregory2025-02-11T16:53:07+01:00Interview Blue Clouds face au miroir du Magic Mirrors / Magic Boulevard 9Gregory2025-02-11T23:21:40+01:00Magic Boulevard 9 – Scars LH – On fireGregory2023-04-26T09:36:25+02:00La Galerie du Magic Boulevard 5Gregory2023-04-25T11:37:03+02:00Magic Boulevard 8Gregory2025-02-11T23:33:49+01:00Interview face au miroir du Magic Mirrors lors de son passage au Magic Boulevard 5 en Mai 2021Gregory2022-09-29T22:02:39+02:00Magic Boulevard 6 et 7Gregory2021-03-28T22:35:28+02:00Magic Boulevard 3Gregory2021-01-14T20:36:53+01:00Magic Boulevard 2Gregory2021-01-14T20:44:39+01:00Magic Boulevard 1Gregory2020-12-09T23:46:50+01:00Ma Première fois sur le Boulevard des Artistes Manhattan sur MerGregory2021-01-14T20:29:27+01:00La Galerie du Magic BoulevardGregory2020-11-29T22:26:39+01:00Ma Première fois sur le Boulevard des Artistes Oceng OryemaGregory2020-12-10T23:16:19+01:0060 Secondes chrono Chante avec LouGregory2020-12-22T21:51:49+01:0060 Secondes chrono LH Magic SessionsGregory2020-12-27T20:00:40+01:00Concert de SoulRumble pour Chante avec Lou au Magic MirrorsEVENEMENTS CONCERNANT LE MAGIC MIRRORS \n\n\nSanseverino28 avril à  20 h 00 minFééries Fantastiques\, par l’Orchestre d’Harmonie de Lillebonne10 mai à  16 h 30 minJean-Luc Lemoine\, Liquidation21 mai à  20 h 30 minLennon live ! L’hommage22 mai à  20 h 00 min - 22 h 00 minLes coquines23 mai à  20 h 00 minAntoine Donneaux\, Imitateur mais pas que !29 mai à  20 h 00 minLe casse de l’année30 mai à  20 h 00 minLaurent Barat s’enchaîne5 juin à  20 h 00 minLouis Cattelat\, Arecibo10 juin à  20 h 00 minRay Charles\, the genius of soul12 juin à  20 h 30 minPaillettes13 juin à  20 h 00 minCoup de bluff au cabaret19 juin à  20 h 30 minJérémy Charbonnel\, Seul Tout2 octobre à  20 h 00 min
URL:https://lh.boulevarddesartistes.com/lehavre/escale-a-tahiti-les-11-et-12-juin-au-magic-mirrors-2/
LOCATION:Magic Mirrors\, 5 Quai Frissard\, LE HAVRE\, 76600\, France
CATEGORIES:Festival polynesien,Magic Mirrors
END:VEVENT
END:VCALENDAR