BEGIN:VCALENDAR
VERSION:2.0
PRODID:-//Boulevard des Artistes - ECPv6.15.20//NONSGML v1.0//EN
CALSCALE:GREGORIAN
METHOD:PUBLISH
X-WR-CALNAME:Boulevard des Artistes
X-ORIGINAL-URL:https://lh.boulevarddesartistes.com
X-WR-CALDESC:Évènements pour Boulevard des Artistes
REFRESH-INTERVAL;VALUE=DURATION:PT1H
X-Robots-Tag:noindex
X-PUBLISHED-TTL:PT1H
BEGIN:VTIMEZONE
TZID:Europe/Paris
BEGIN:DAYLIGHT
TZOFFSETFROM:+0100
TZOFFSETTO:+0200
TZNAME:CEST
DTSTART:20200329T010000
END:DAYLIGHT
BEGIN:STANDARD
TZOFFSETFROM:+0200
TZOFFSETTO:+0100
TZNAME:CET
DTSTART:20201025T010000
END:STANDARD
BEGIN:DAYLIGHT
TZOFFSETFROM:+0100
TZOFFSETTO:+0200
TZNAME:CEST
DTSTART:20210328T010000
END:DAYLIGHT
BEGIN:STANDARD
TZOFFSETFROM:+0200
TZOFFSETTO:+0100
TZNAME:CET
DTSTART:20211031T010000
END:STANDARD
BEGIN:DAYLIGHT
TZOFFSETFROM:+0100
TZOFFSETTO:+0200
TZNAME:CEST
DTSTART:20220327T010000
END:DAYLIGHT
BEGIN:STANDARD
TZOFFSETFROM:+0200
TZOFFSETTO:+0100
TZNAME:CET
DTSTART:20221030T010000
END:STANDARD
END:VTIMEZONE
BEGIN:VEVENT
DTSTART;TZID=Europe/Paris:20211119T203000
DTEND;TZID=Europe/Paris:20211119T203000
DTSTAMP:20260423T234526
CREATED:20211118T141345Z
LAST-MODIFIED:20211118T144808Z
UID:35601-1637353800-1637353800@lh.boulevarddesartistes.com
SUMMARY:Hypno’tic
DESCRIPTION:Offrir une parenthèse enchantée à des enfants et ados très gravement malades…tel est le but de l’Association Rêves. \nEn réalisant les vœux les plus fous\, l’association leur permet de vivre des expériences inoubliables qui les aident à reprendre confiance en l’avenir. Rêves 76 est l’une des trente délégations départementales. Elle travaille avec le CHU Charles Nicolle de Rouen et avec le service Pédiatrie de Jacques Monod pour le Havre. \nLes bénéfices de cette soirée permettront de réaliser le rêve d’un enfant très gravement malade. \nARTICLES CONCERNANT LE MAGIC MIRRORSGregory2025-02-11T16:42:53+01:00Interview Green Tea Pot face au miroir du Magic MirrorsGregory2025-02-11T16:43:43+01:00Interview Vincent face au miroir du Magic MirrorsGregory2025-02-11T16:44:41+01:00Interview Los Primos face au miroir du Magic MirrorsGregory2025-02-11T16:46:43+01:00Interview Filipe face au miroir du Magic MirrorsGregory2024-01-17T10:20:12+01:00Interview General face au miroir du Magic MirrorsGregory2024-01-17T10:15:08+01:00Interview Louisiane & Caux face au miroir du Magic MirrorsGregory2025-02-11T16:53:07+01:00Interview Blue Clouds face au miroir du Magic Mirrors / Magic Boulevard 9Gregory2025-02-11T23:21:40+01:00Magic Boulevard 9 – Scars LH – On fireGregory2023-04-26T09:36:25+02:00La Galerie du Magic Boulevard 5Gregory2023-04-25T11:37:03+02:00Magic Boulevard 8Gregory2025-02-11T23:33:49+01:00Interview face au miroir du Magic Mirrors lors de son passage au Magic Boulevard 5 en Mai 2021Gregory2022-09-29T22:02:39+02:00Magic Boulevard 6 et 7Gregory2021-03-28T22:35:28+02:00Magic Boulevard 3Gregory2021-01-14T20:36:53+01:00Magic Boulevard 2Gregory2021-01-14T20:44:39+01:00Magic Boulevard 1Gregory2020-12-09T23:46:50+01:00Ma Première fois sur le Boulevard des Artistes Manhattan sur MerGregory2021-01-14T20:29:27+01:00La Galerie du Magic BoulevardGregory2020-11-29T22:26:39+01:00Ma Première fois sur le Boulevard des Artistes Oceng OryemaGregory2020-12-10T23:16:19+01:0060 Secondes chrono Chante avec LouGregory2020-12-22T21:51:49+01:0060 Secondes chrono LH Magic SessionsGregory2020-12-27T20:00:40+01:00Concert de SoulRumble pour Chante avec Lou au Magic MirrorsEVENEMENTS CONCERNANT LE MAGIC MIRRORS
URL:https://lh.boulevarddesartistes.com/lehavre/hypnotic/
LOCATION:Magic Mirrors\, 5 Quai Frissard\, LE HAVRE\, 76600\, France
CATEGORIES:Magic Mirrors,Magie
ATTACH;FMTTYPE=image/jpeg:https://lh.boulevarddesartistes.com/wp-content/uploads/2021/11/magic-mirror-hypnoticcdr-e1637242932406.jpg
END:VEVENT
BEGIN:VEVENT
DTSTART;TZID=Europe/Paris:20211120T210000
DTEND;TZID=Europe/Paris:20211120T210000
DTSTAMP:20260423T234526
CREATED:20210922T140411Z
LAST-MODIFIED:20211118T151927Z
UID:35363-1637442000-1637442000@lh.boulevarddesartistes.com
SUMMARY:Electric Pyramid (Rock)
DESCRIPTION:Après la sortie des single Woman’s Touch\, suivi de Paradise en 2019\, Electric Pyramid a dévoilé en juin dernier leur premier album éponyme\, enregistré en Cornouailles avec le célèbre producteur John Cornfield (Muse\, Oasis\, Robert Plant…). \nCe groupe\, à l’allure néo-hippie puisée dans les influences rock des années 60 et 70\, nous livre un album qui recèle de classiques instantanés\, donnant cette sensation d’être chez un disquaire féru de rock d’anthologie. Les morceaux font d’ailleurs le pont entre un rock’n’roll authentique et des ballades mélancoliques mid-tempo\, rendant la découverte de chaque morceau pareil à un trésor de vinyles rock.  \nOI Beach : chant ; Christian Mendoza : guitare\, clavier et chœur ; Linus Taylor : guitare\, chant ; Luigi Casanova : basse et chant ; Chris Brice : batterie\, percussions\, chant. \n\n\n\nARTICLES CONCERNANT LE MAGIC MIRRORSGregory2025-02-11T16:42:53+01:00Interview Green Tea Pot face au miroir du Magic MirrorsGregory2025-02-11T16:43:43+01:00Interview Vincent face au miroir du Magic MirrorsGregory2025-02-11T16:44:41+01:00Interview Los Primos face au miroir du Magic MirrorsGregory2025-02-11T16:46:43+01:00Interview Filipe face au miroir du Magic MirrorsGregory2024-01-17T10:20:12+01:00Interview General face au miroir du Magic MirrorsGregory2024-01-17T10:15:08+01:00Interview Louisiane & Caux face au miroir du Magic MirrorsGregory2025-02-11T16:53:07+01:00Interview Blue Clouds face au miroir du Magic Mirrors / Magic Boulevard 9Gregory2025-02-11T23:21:40+01:00Magic Boulevard 9 – Scars LH – On fireGregory2023-04-26T09:36:25+02:00La Galerie du Magic Boulevard 5Gregory2023-04-25T11:37:03+02:00Magic Boulevard 8Gregory2025-02-11T23:33:49+01:00Interview face au miroir du Magic Mirrors lors de son passage au Magic Boulevard 5 en Mai 2021Gregory2022-09-29T22:02:39+02:00Magic Boulevard 6 et 7Gregory2021-03-28T22:35:28+02:00Magic Boulevard 3Gregory2021-01-14T20:36:53+01:00Magic Boulevard 2Gregory2021-01-14T20:44:39+01:00Magic Boulevard 1Gregory2020-12-09T23:46:50+01:00Ma Première fois sur le Boulevard des Artistes Manhattan sur MerGregory2021-01-14T20:29:27+01:00La Galerie du Magic BoulevardGregory2020-11-29T22:26:39+01:00Ma Première fois sur le Boulevard des Artistes Oceng OryemaGregory2020-12-10T23:16:19+01:0060 Secondes chrono Chante avec LouGregory2020-12-22T21:51:49+01:0060 Secondes chrono LH Magic SessionsGregory2020-12-27T20:00:40+01:00Concert de SoulRumble pour Chante avec Lou au Magic MirrorsEVENEMENTS CONCERNANT LE MAGIC MIRRORS
URL:https://lh.boulevarddesartistes.com/lehavre/electric-pyramid-rock/
LOCATION:Magic Mirrors\, 5 Quai Frissard\, LE HAVRE\, 76600\, France
CATEGORIES:4e Musique,Magic Mirrors
ATTACH;FMTTYPE=image/jpeg:https://lh.boulevarddesartistes.com/wp-content/uploads/2021/09/magic-mirrors-electric-pyramid.jpg
END:VEVENT
BEGIN:VEVENT
DTSTART;TZID=Europe/Paris:20211125T203000
DTEND;TZID=Europe/Paris:20211125T203000
DTSTAMP:20260423T234526
CREATED:20210922T141723Z
LAST-MODIFIED:20211118T153216Z
UID:35369-1637872200-1637872200@lh.boulevarddesartistes.com
SUMMARY:Zoufris Maracas Super Combo
DESCRIPTION:Au regard de la situation sanitaire\, le concert de Zoufris Maracas initialement prévu au Magic Mirrors le 18 mars 2020\, reporté au 12 décembre 2020 puis au 8 avril 2021\, est une nouvelle fois reprogrammé au jeudi 25 novembre 2021. Les billets pour les séances du 18 mars 2020\, 12 décembre 2020 et 8 avril 2021 restent valables pour le concert du 25 novembre 2021. Pour toute demande de remboursement\, merci de vous rapprocher de votre point de vente billetterie avant le samedi 1er mai 2021. \n\n\n\n\nAprès de longues années passées sur la route à distiller leur bonne humeur\, la troupe parisienne a décidé de revenir sur scène avec un nouveau live et une nouvelle formation de 9 musiciens : le Zoufris Maracas Super Combo. \nLeur nouvel  et  troisième album Bleu de Lune parle d’amour\, de poésie\, de la vie et de la traversée saugrenue de cet étrange état d’être qu’on appelle avec pudeur Existence. Des textes aussi ironiques que doux-amers et  un subtil mélange de chanson française aux influences reggae\, tziganes\, afro\, caribéennes et latines \nUne chanson française anarcho-libertaire tissée sur une musique métissée\, à la fois manouche\, latino\, rumba\, créole et africaine.  \n\n\n\nARTICLES CONCERNANT LE MAGIC MIRRORSGregory2025-02-11T16:42:53+01:00Interview Green Tea Pot face au miroir du Magic MirrorsGregory2025-02-11T16:43:43+01:00Interview Vincent face au miroir du Magic MirrorsGregory2025-02-11T16:44:41+01:00Interview Los Primos face au miroir du Magic MirrorsGregory2025-02-11T16:46:43+01:00Interview Filipe face au miroir du Magic MirrorsGregory2024-01-17T10:20:12+01:00Interview General face au miroir du Magic MirrorsGregory2024-01-17T10:15:08+01:00Interview Louisiane & Caux face au miroir du Magic MirrorsGregory2025-02-11T16:53:07+01:00Interview Blue Clouds face au miroir du Magic Mirrors / Magic Boulevard 9Gregory2025-02-11T23:21:40+01:00Magic Boulevard 9 – Scars LH – On fireGregory2023-04-26T09:36:25+02:00La Galerie du Magic Boulevard 5Gregory2023-04-25T11:37:03+02:00Magic Boulevard 8Gregory2025-02-11T23:33:49+01:00Interview face au miroir du Magic Mirrors lors de son passage au Magic Boulevard 5 en Mai 2021Gregory2022-09-29T22:02:39+02:00Magic Boulevard 6 et 7Gregory2021-03-28T22:35:28+02:00Magic Boulevard 3Gregory2021-01-14T20:36:53+01:00Magic Boulevard 2Gregory2021-01-14T20:44:39+01:00Magic Boulevard 1Gregory2020-12-09T23:46:50+01:00Ma Première fois sur le Boulevard des Artistes Manhattan sur MerGregory2021-01-14T20:29:27+01:00La Galerie du Magic BoulevardGregory2020-11-29T22:26:39+01:00Ma Première fois sur le Boulevard des Artistes Oceng OryemaGregory2020-12-10T23:16:19+01:0060 Secondes chrono Chante avec LouGregory2020-12-22T21:51:49+01:0060 Secondes chrono LH Magic SessionsGregory2020-12-27T20:00:40+01:00Concert de SoulRumble pour Chante avec Lou au Magic MirrorsEVENEMENTS CONCERNANT LE MAGIC MIRRORS
URL:https://lh.boulevarddesartistes.com/lehavre/zoufris-maracas-super-combo/
LOCATION:Magic Mirrors\, 5 Quai Frissard\, LE HAVRE\, 76600\, France
CATEGORIES:4e Musique,Magic Mirrors
ATTACH;FMTTYPE=image/jpeg:https://lh.boulevarddesartistes.com/wp-content/uploads/2021/09/web_232.jpg
END:VEVENT
BEGIN:VEVENT
DTSTART;TZID=Europe/Paris:20211126T203000
DTEND;TZID=Europe/Paris:20211126T203000
DTSTAMP:20260423T234526
CREATED:20211118T154331Z
LAST-MODIFIED:20211118T154331Z
UID:35600-1637958600-1637958600@lh.boulevarddesartistes.com
SUMMARY:Job (Pop)
DESCRIPTION:À l’occasion de la sortie de son premier album Prologue\, le chanteur et pianiste Baptiste Job\, « auteur\, compositeur et interprète accompagné de ses irremplaçables musiciens » jouera ses dernières compositions originales sur les planches du Magic. \nÀ ses côtés seront présents Benoit Gutierrez (basse)\, Jean-Jacques Buquet (guitare) et Quentin Buquet (batterie et chœur)\, trois musiciens confirmés et doués d’une grande sensibilité\, rencontrés dans le groupe de gospel havrais Phaella\, consolidant ainsi leur complicité sur scène. Job est assurément le groupe dans le paysage musical normand à surveiller de près ! \nARTICLES CONCERNANT LE MAGIC MIRRORSGregory2025-02-11T16:42:53+01:00Interview Green Tea Pot face au miroir du Magic MirrorsGregory2025-02-11T16:43:43+01:00Interview Vincent face au miroir du Magic MirrorsGregory2025-02-11T16:44:41+01:00Interview Los Primos face au miroir du Magic MirrorsGregory2025-02-11T16:46:43+01:00Interview Filipe face au miroir du Magic MirrorsGregory2024-01-17T10:20:12+01:00Interview General face au miroir du Magic MirrorsGregory2024-01-17T10:15:08+01:00Interview Louisiane & Caux face au miroir du Magic MirrorsGregory2025-02-11T16:53:07+01:00Interview Blue Clouds face au miroir du Magic Mirrors / Magic Boulevard 9Gregory2025-02-11T23:21:40+01:00Magic Boulevard 9 – Scars LH – On fireGregory2023-04-26T09:36:25+02:00La Galerie du Magic Boulevard 5Gregory2023-04-25T11:37:03+02:00Magic Boulevard 8Gregory2025-02-11T23:33:49+01:00Interview face au miroir du Magic Mirrors lors de son passage au Magic Boulevard 5 en Mai 2021Gregory2022-09-29T22:02:39+02:00Magic Boulevard 6 et 7Gregory2021-03-28T22:35:28+02:00Magic Boulevard 3Gregory2021-01-14T20:36:53+01:00Magic Boulevard 2Gregory2021-01-14T20:44:39+01:00Magic Boulevard 1Gregory2020-12-09T23:46:50+01:00Ma Première fois sur le Boulevard des Artistes Manhattan sur MerGregory2021-01-14T20:29:27+01:00La Galerie du Magic BoulevardGregory2020-11-29T22:26:39+01:00Ma Première fois sur le Boulevard des Artistes Oceng OryemaGregory2020-12-10T23:16:19+01:0060 Secondes chrono Chante avec LouGregory2020-12-22T21:51:49+01:0060 Secondes chrono LH Magic SessionsGregory2020-12-27T20:00:40+01:00Concert de SoulRumble pour Chante avec Lou au Magic MirrorsEVENEMENTS CONCERNANT LE MAGIC MIRRORS
URL:https://lh.boulevarddesartistes.com/lehavre/job-pop/
LOCATION:Magic Mirrors\, 5 Quai Frissard\, LE HAVRE\, 76600\, France
CATEGORIES:4e Musique,Magic Mirrors
ATTACH;FMTTYPE=image/jpeg:https://lh.boulevarddesartistes.com/wp-content/uploads/2021/11/magic-mirrors-job.jpg
END:VEVENT
BEGIN:VEVENT
DTSTART;TZID=Europe/Paris:20211128T110000
DTEND;TZID=Europe/Paris:20211128T110000
DTSTAMP:20260423T234526
CREATED:20211124T153110Z
LAST-MODIFIED:20211124T153110Z
UID:35727-1638097200-1638097200@lh.boulevarddesartistes.com
SUMMARY:Brunch musical avec Marthe • Le Tetris
DESCRIPTION:𝗗𝗮𝗻𝘀 𝗹𝗲 𝗰𝗮𝗱𝗿𝗲 𝗱𝘂 𝗳𝗲𝘀𝘁𝗶𝘃𝗮𝗹 𝗣𝗶𝗮𝗻𝗼 𝗜𝘀 𝗡𝗼𝘁 𝗗𝗲𝗮𝗱\, 𝗹𝗲 𝗧𝗲𝘁𝗿𝗶𝘀 𝗱𝗼𝗻𝗻𝗲 𝗰𝗮𝗿𝘁𝗲 𝗯𝗹𝗮𝗻𝗰𝗵𝗲 𝗮𝘂 𝗖𝗼𝗻𝘀𝗲𝗿𝘃𝗮𝘁𝗼𝗶𝗿𝗲 𝗔𝗿𝘁𝗵𝘂𝗿 𝗛𝗼𝗻𝗲𝗴𝗴𝗲𝗿.\nRendez-vous pour un brunch en musique ! Au menu : buffet sucré & salé concocté par La Cantine du Fort.\n\n✰ Marthe ✰\nAuteure\, compositrice et interprète résidant au Havre\, Marthe se produit depuis 2017 sur des scènes parisiennes. Le projet de création d’une filière chanson au sein du Conservatoire Honegger (écriture\, harmonisation\, arrangement\, histoire et culture du genre …) conduit ce dernier à progressivement enrichir son offre de programmation et à l’étendre à la chanson\, l’une des formes d’expression les plus créative et intemporelle qui soit !\nARTICLES CONCERNANT LE TETRISGregory2020-12-09T17:44:22+01:00Entretien avec Caroline Moreau de la Papa’s productionEVENEMENTS CONCERNANT LE TETRIS
URL:https://lh.boulevarddesartistes.com/lehavre/festival-piano-is-not-dead/
CATEGORIES:Artistes,Happy Dock,Rencontre
ATTACH;FMTTYPE=image/png:https://lh.boulevarddesartistes.com/wp-content/uploads/2021/11/260163521_4826121720733594_3379961559659276097_n.png
ORGANIZER;CN="Tetris":MAILTO:billetterie@letetris.fr
END:VEVENT
END:VCALENDAR