BEGIN:VCALENDAR
VERSION:2.0
PRODID:-//Boulevard des Artistes - ECPv6.15.20//NONSGML v1.0//EN
CALSCALE:GREGORIAN
METHOD:PUBLISH
X-ORIGINAL-URL:https://lh.boulevarddesartistes.com
X-WR-CALDESC:Évènements pour Boulevard des Artistes
REFRESH-INTERVAL;VALUE=DURATION:PT1H
X-Robots-Tag:noindex
X-PUBLISHED-TTL:PT1H
BEGIN:VTIMEZONE
TZID:Europe/Paris
BEGIN:DAYLIGHT
TZOFFSETFROM:+0100
TZOFFSETTO:+0200
TZNAME:CEST
DTSTART:20210328T010000
END:DAYLIGHT
BEGIN:STANDARD
TZOFFSETFROM:+0200
TZOFFSETTO:+0100
TZNAME:CET
DTSTART:20211031T010000
END:STANDARD
BEGIN:DAYLIGHT
TZOFFSETFROM:+0100
TZOFFSETTO:+0200
TZNAME:CEST
DTSTART:20220327T010000
END:DAYLIGHT
BEGIN:STANDARD
TZOFFSETFROM:+0200
TZOFFSETTO:+0100
TZNAME:CET
DTSTART:20221030T010000
END:STANDARD
BEGIN:DAYLIGHT
TZOFFSETFROM:+0100
TZOFFSETTO:+0200
TZNAME:CEST
DTSTART:20230326T010000
END:DAYLIGHT
BEGIN:STANDARD
TZOFFSETFROM:+0200
TZOFFSETTO:+0100
TZNAME:CET
DTSTART:20231029T010000
END:STANDARD
END:VTIMEZONE
BEGIN:VEVENT
DTSTART;TZID=Europe/Paris:20220225T203000
DTEND;TZID=Europe/Paris:20220225T220000
DTSTAMP:20260423T211137
CREATED:20220222T152516Z
LAST-MODIFIED:20220222T153530Z
UID:36030-1645821000-1645826400@lh.boulevarddesartistes.com
SUMMARY:Provisoire
DESCRIPTION:Provisoire Une création collective du Théâtre de l’Impossible \nLes 25 et 26 février 2022 à 20h30 au Théâtre de l’hôtel de ville du Havre\n8€ et 10€\nARTICLES CONCERNANT LE THEATRE DE L’IMPOSSIBLEGregory2025-02-11T23:31:13+01:00Extermination du peuple / Théâtre de l’impossible / NormandyGregory2020-12-04T22:56:19+01:00Jean-Baptiste Lemarchand Mon Top TenGregory2020-12-04T23:48:18+01:00Virginie Daubeuf – Mon confinementGregory2020-12-03T22:53:55+01:00Entretien avec Gaëtan du Théâtre de l’ImpossibleGregory2020-12-22T22:36:14+01:0060 Secondes chrono pour Tamerlan Le GrandGregory2020-12-27T19:32:34+01:00Les bonnes du Théâtre de l’ImpossibleGregory2020-11-29T23:25:40+01:00Mickaël Millet Ma Première Fois sur le Boulevard des ArtistesGregory2020-12-27T20:07:15+01:00Entretien avec Adeline\, Louise et Viriginie du Théâtre de l’ImpossibleGregory2020-11-29T23:19:42+01:00Jean-Baptiste Lemarchand du Théâtre de l’Impossible Ma Première Fois sur le Boulevard des ArtistesGregory2020-12-27T20:03:03+01:00Prix du jury jeunes et Tour d’Or pour le Théâtre de l’ImpossibleGregory2020-12-25T15:58:41+01:00Les Trois Soeurs Jacques par le TDIGregory2020-12-25T15:55:16+01:00Entretien avec Jean-Baptiste Lemarchand metteur en scène du Théâtre de l’ImpossibleGregory2020-12-25T15:16:26+01:00Entretien avec Mathilde Mahier du Théâtre de l’ImpossibleGregory2021-05-03T13:23:05+02:00Entretien avec Fabrice Autret du Théâtre de l’ImpossibleGregory2020-12-09T22:58:26+01:00Tendre et Cruel D’après les Trachiniennes de Sophocle par le TDIGregory2020-12-03T23:05:52+01:00Entretien avec un comédien : Fabrice AutretEVENEMENTS CONCERNANT LE THEATRE DE L’IMPOSSIBLE
URL:https://lh.boulevarddesartistes.com/lehavre/provisoire/
LOCATION:THV
CATEGORIES:TDI,Théâtre de l'Hôtel de Ville du Havre
ATTACH;FMTTYPE=image/jpeg:https://lh.boulevarddesartistes.com/wp-content/uploads/2022/02/273298282_2082234585283330_2239448284610684881_n-800x1000-1.jpg
END:VEVENT
END:VCALENDAR