BEGIN:VCALENDAR
VERSION:2.0
PRODID:-//Boulevard des Artistes - ECPv6.15.20//NONSGML v1.0//EN
CALSCALE:GREGORIAN
METHOD:PUBLISH
X-WR-CALNAME:Boulevard des Artistes
X-ORIGINAL-URL:https://lh.boulevarddesartistes.com
X-WR-CALDESC:Évènements pour Boulevard des Artistes
REFRESH-INTERVAL;VALUE=DURATION:PT1H
X-Robots-Tag:noindex
X-PUBLISHED-TTL:PT1H
BEGIN:VTIMEZONE
TZID:Europe/Paris
BEGIN:DAYLIGHT
TZOFFSETFROM:+0100
TZOFFSETTO:+0200
TZNAME:CEST
DTSTART:20200329T010000
END:DAYLIGHT
BEGIN:STANDARD
TZOFFSETFROM:+0200
TZOFFSETTO:+0100
TZNAME:CET
DTSTART:20201025T010000
END:STANDARD
BEGIN:DAYLIGHT
TZOFFSETFROM:+0100
TZOFFSETTO:+0200
TZNAME:CEST
DTSTART:20210328T010000
END:DAYLIGHT
BEGIN:STANDARD
TZOFFSETFROM:+0200
TZOFFSETTO:+0100
TZNAME:CET
DTSTART:20211031T010000
END:STANDARD
BEGIN:DAYLIGHT
TZOFFSETFROM:+0100
TZOFFSETTO:+0200
TZNAME:CEST
DTSTART:20220327T010000
END:DAYLIGHT
BEGIN:STANDARD
TZOFFSETFROM:+0200
TZOFFSETTO:+0100
TZNAME:CET
DTSTART:20221030T010000
END:STANDARD
BEGIN:DAYLIGHT
TZOFFSETFROM:+0100
TZOFFSETTO:+0200
TZNAME:CEST
DTSTART:20230326T010000
END:DAYLIGHT
BEGIN:STANDARD
TZOFFSETFROM:+0200
TZOFFSETTO:+0100
TZNAME:CET
DTSTART:20231029T010000
END:STANDARD
END:VTIMEZONE
BEGIN:VEVENT
DTSTART;TZID=Europe/Paris:20211202T180000
DTEND;TZID=Europe/Paris:20220102T200000
DTSTAMP:20260423T234116
CREATED:20211124T143132Z
LAST-MODIFIED:20211124T143132Z
UID:35720-1638468000-1641153600@lh.boulevarddesartistes.com
SUMMARY:Vernissage Clairelise Chobelet au Happy Dock
DESCRIPTION:Clairelise CHOBELET\nExposition rétrospective\nDessins peintures sculptures céramiques\n\nHAPPY DOCK / LE HAVRE / décembre 2021\n\nLe HAPPY DOCK du Havre invite Clairelise Chobelet à exposer durant le mois de décembre 2021. À l’occasion de cette rétrospective\, l’artiste dévoile 30 ans de dessin\, peinture\, sculpture et céramique.\nARTICLES CONCERNANT CLAIRELISE CHOBELETGregory2020-12-05T00:14:25+01:00Clairelise Chobelet – Mon confinementGregory2020-12-08T00:11:26+01:0060 Secondes chrono Clairelise ChobeletGregory2020-11-30T00:15:08+01:00Tête à Tête avec Clairelise ChobeletGregory2020-12-08T00:16:13+01:00Clairelise Chobelet Mon Top TenGregory2021-05-03T12:40:12+02:00Clairelise Chobelet Ma Première Fois sur le Boulevard des ArtistesGregory2020-12-08T00:12:43+01:00Entretien avec Clairelise ChobeletGregory2020-12-08T00:09:18+01:00La Galerie de CLairelise ChobeletEVENEMENTS CONCERNANT LE HAPPY DOCK
URL:https://lh.boulevarddesartistes.com/lehavre/vernissage-clairelise-chobelet-au-happy-dock/
LOCATION:Happy Dock\, Chau. Georges Pompidou\, Le Havre\, 76600\, France
CATEGORIES:Artistes,Happy Dock,Rencontre
ATTACH;FMTTYPE=image/jpeg:https://lh.boulevarddesartistes.com/wp-content/uploads/2021/11/258835912_997289024154376_6992684770792221205_n.jpg
END:VEVENT
BEGIN:VEVENT
DTSTART;TZID=Europe/Paris:20211208T093000
DTEND;TZID=Europe/Paris:20211208T093000
DTSTAMP:20260423T234116
CREATED:20211118T161701Z
LAST-MODIFIED:20211118T161701Z
UID:35630-1638955800-1638955800@lh.boulevarddesartistes.com
SUMMARY:La culture\, matériau de construction des tout-petits\, nourriture du lien familial\, par Bernard Golse
DESCRIPTION:Dans le cadre de la semaine de la parentalité\, la ville du Havre vous propose une conférence de Bernard Golse autour du thème de la culture pour les tout-petits. \n\n\n\n\nAu programme : \n\nDe 9 h 30 à 10 h et de 12 h à 12 h 30 : Espace lecture – « Lis avec moi » proposé aux enfants et aux parents.\n \nÀ 10 h : conférence « La culture comme ours peluche »\, objet transitionnel collectif pour être ensemble et partager des émotions. Selon M. Golse\, l’accès des tout-petits à la culture constitue une sorte de prévention de l’intolérance et de la violence.\n\nBernard GOLSE\nPédopsychiatre\, psychanalyste\nProfesseur des universités\nPraticien hospitalier émérite de psychiatrie de l’enfant et de l’adolescent à l’université Paris-Descartes\nPrésident de l’association Pickler Loczy\nFondateur de l’Institut Contemporain de l’Enfance \n\n\n\nARTICLES CONCERNANT LE MAGIC MIRRORSGregory2025-02-11T16:42:53+01:00Interview Green Tea Pot face au miroir du Magic MirrorsGregory2025-02-11T16:43:43+01:00Interview Vincent face au miroir du Magic MirrorsGregory2025-02-11T16:44:41+01:00Interview Los Primos face au miroir du Magic MirrorsGregory2025-02-11T16:46:43+01:00Interview Filipe face au miroir du Magic MirrorsGregory2024-01-17T10:20:12+01:00Interview General face au miroir du Magic MirrorsGregory2024-01-17T10:15:08+01:00Interview Louisiane & Caux face au miroir du Magic MirrorsGregory2025-02-11T16:53:07+01:00Interview Blue Clouds face au miroir du Magic Mirrors / Magic Boulevard 9Gregory2025-02-11T23:21:40+01:00Magic Boulevard 9 – Scars LH – On fireGregory2023-04-26T09:36:25+02:00La Galerie du Magic Boulevard 5Gregory2023-04-25T11:37:03+02:00Magic Boulevard 8Gregory2025-02-11T23:33:49+01:00Interview face au miroir du Magic Mirrors lors de son passage au Magic Boulevard 5 en Mai 2021Gregory2022-09-29T22:02:39+02:00Magic Boulevard 6 et 7Gregory2021-03-28T22:35:28+02:00Magic Boulevard 3Gregory2021-01-14T20:36:53+01:00Magic Boulevard 2Gregory2021-01-14T20:44:39+01:00Magic Boulevard 1Gregory2020-12-09T23:46:50+01:00Ma Première fois sur le Boulevard des Artistes Manhattan sur MerGregory2021-01-14T20:29:27+01:00La Galerie du Magic BoulevardGregory2020-11-29T22:26:39+01:00Ma Première fois sur le Boulevard des Artistes Oceng OryemaGregory2020-12-10T23:16:19+01:0060 Secondes chrono Chante avec LouGregory2020-12-22T21:51:49+01:0060 Secondes chrono LH Magic SessionsGregory2020-12-27T20:00:40+01:00Concert de SoulRumble pour Chante avec Lou au Magic MirrorsEVENEMENTS CONCERNANT LE MAGIC MIRRORS
URL:https://lh.boulevarddesartistes.com/lehavre/la-culture-materiau-de-construction-des-tout-petits-nourriture-du-lien-familial-par-bernard-golse/
LOCATION:Magic Mirrors\, 5 Quai Frissard\, LE HAVRE\, 76600\, France
CATEGORIES:Arts de la Scène,Comédie Musicale,Magic Mirrors,Rencontre
ATTACH;FMTTYPE=image/jpeg:https://lh.boulevarddesartistes.com/wp-content/uploads/2021/11/semaine-parentalite-bernard-golse.jpg
END:VEVENT
END:VCALENDAR